BEGIN:VCALENDAR
PRODID:-//SINGPromos.com//NONSGML v1.0//EN
VERSION:2.0
CALSCALE:GREGORIAN
METHOD:PUBLISH
X-WR-CALNAME:SINGPromos.com
X-ORIGINAL-URL:https://singpromos.com
X-WR-CALDESC:Events for SINGPromos.com
BEGIN:VEVENT
DTSTART:20150616T000000
DTEND:20150628T235900
DTSTAMP:20260422T082323
CREATED:20150616T215021
LAST-MODIFIED:20150616T215021
UID:151064@https://singpromos.com
SUMMARY:Artbox Spend $35 & Get $5 Voucher 16 Jun 2015
DESCRIPTION:Get a free $5 voucher with a minimum of just $35 spent in a single receipt.. For more information, visit [ https://singpromos.com/books/artbox-spend-35-get-5-voucher-16-jun-2015-151064/ ]. 
LOCATION:
URL:https://singpromos.com/books/artbox-spend-35-get-5-voucher-16-jun-2015-151064/
END:VEVENT
END:VCALENDAR