BEGIN:VCALENDAR
PRODID:-//SINGPromos.com//NONSGML v1.0//EN
VERSION:2.0
CALSCALE:GREGORIAN
METHOD:PUBLISH
X-WR-CALNAME:SINGPromos.com
X-ORIGINAL-URL:https://singpromos.com
X-WR-CALDESC:Events for SINGPromos.com
BEGIN:VEVENT
DTSTART:20150617T000000
DTEND:20160601T235900
DTSTAMP:20260420T172929
CREATED:20150617T181804
LAST-MODIFIED:20150617T181804
UID:151147@https://singpromos.com
SUMMARY:UOB 10% Off Korean Cuisine Dining Deals 17 Jun 2015 - 1 Jun 2016
DESCRIPTION:Get 10% off at Seoul Garden, Seoul Garden Hotpot, BREEKS, Chef's Noodle & Korbi Grill with UOB cards. For more information, visit [ https://singpromos.com/dining-restaurants-food/uob-10-off-korean-cuisine-dining-deals-17-jun-2015-1-jun-2016-151147/ ]. 
LOCATION:
URL:https://singpromos.com/dining-restaurants-food/uob-10-off-korean-cuisine-dining-deals-17-jun-2015-1-jun-2016-151147/
END:VEVENT
END:VCALENDAR