BEGIN:VCALENDAR
PRODID:-//SINGPromos.com//NONSGML v1.0//EN
VERSION:2.0
CALSCALE:GREGORIAN
METHOD:PUBLISH
X-WR-CALNAME:SINGPromos.com
X-ORIGINAL-URL:https://singpromos.com
X-WR-CALDESC:Events for SINGPromos.com
BEGIN:VEVENT
DTSTART:20150619T000000
DTEND:20150621T235900
DTSTAMP:20260420T074510
CREATED:20150617T165908
LAST-MODIFIED:20150617T180958
UID:151168@https://singpromos.com
SUMMARY:Frasers Centrepoint Malls 1 for 1 Dining Deals (Direct In-Store Redemption) 19 - 21 Jun 2015
DESCRIPTION:Eighteen Chefs, Olio Cafe, Mouth Restaurant, Pies & Coffee, Swensen's, Fish Mart Sakuraya, Manhattan Fish Market & more - Limited redemptions per store on a first-come-first-served-basis, while stocks last. For more information, visit [ https://singpromos.com/dining-restaurants-food/frasers-centrepoint-malls-1-for-1-dining-deals-direct-in-store-redemption-19-21-jun-2015-151168/ ]. 
LOCATION:
URL:https://singpromos.com/dining-restaurants-food/frasers-centrepoint-malls-1-for-1-dining-deals-direct-in-store-redemption-19-21-jun-2015-151168/
END:VEVENT
END:VCALENDAR