BEGIN:VCALENDAR
PRODID:-//SINGPromos.com//NONSGML v1.0//EN
VERSION:2.0
CALSCALE:GREGORIAN
METHOD:PUBLISH
X-WR-CALNAME:SINGPromos.com
X-ORIGINAL-URL:https://singpromos.com
X-WR-CALDESC:Events for SINGPromos.com
BEGIN:VEVENT
DTSTART:20150618T000000
DTEND:20150717T235900
DTSTAMP:20260420T175954
CREATED:20150617T212745
LAST-MODIFIED:20150617T212745
UID:151190@https://singpromos.com
SUMMARY:Fish & Co Buka Puasa Ramadhan Special 18 Jun - 17 Jul 2015
DESCRIPTION:Ready yourself, and a loved one, for a gloriously satisfying evening of savoury seafood goodness.. For more information, visit [ https://singpromos.com/dining-restaurants-food/fish-co-buka-puasa-ramadhan-special-18-jun-17-jul-2015-151190/ ]. 
LOCATION:
URL:https://singpromos.com/dining-restaurants-food/fish-co-buka-puasa-ramadhan-special-18-jun-17-jul-2015-151190/
END:VEVENT
END:VCALENDAR