BEGIN:VCALENDAR
PRODID:-//SINGPromos.com//NONSGML v1.0//EN
VERSION:2.0
CALSCALE:GREGORIAN
METHOD:PUBLISH
X-WR-CALNAME:SINGPromos.com
X-ORIGINAL-URL:https://singpromos.com
X-WR-CALDESC:Events for SINGPromos.com
BEGIN:VEVENT
DTSTART:20150620T000000
DTEND:20150809T235900
DTSTAMP:20260420T190626
CREATED:20150619T043604
LAST-MODIFIED:20150619T013827
UID:151359@https://singpromos.com
SUMMARY:NDP 2015 Road Closures (Saturdays) 20 Jun - 9 Aug 2015
DESCRIPTION:To facilitate the NDP 2015 rehearsals and the Parade on 9 August, there will be temporary road closures on every Saturday from 20 June and on National Day. For more information, visit [ https://singpromos.com/news/ndp-2015-road-closures-saturdays-20-jun-9-aug-2015-151359/ ]. 
LOCATION:
URL:https://singpromos.com/news/ndp-2015-road-closures-saturdays-20-jun-9-aug-2015-151359/
END:VEVENT
END:VCALENDAR