BEGIN:VCALENDAR
PRODID:-//SINGPromos.com//NONSGML v1.0//EN
VERSION:2.0
CALSCALE:GREGORIAN
METHOD:PUBLISH
X-WR-CALNAME:SINGPromos.com
X-ORIGINAL-URL:https://singpromos.com
X-WR-CALDESC:Events for SINGPromos.com
BEGIN:VEVENT
DTSTART:20150619T000000
DTEND:20150712T235900
DTSTAMP:20260420T074510
CREATED:20150619T120613
LAST-MODIFIED:20150620T011325
UID:151368@https://singpromos.com
SUMMARY:Manhattan Fish Market 54% Off 3 Course Set Meal @ 15 Outlets 19 Jun 2015
DESCRIPTION:Dine at Manhattan Fish Market at over 50% off with this deal: $9.95 for 3 Course Set Meal (worth $21.60) at 15 Outlets - that's 54% OFF the usual price! Learn how to get this deal before it ends soon. For more information, visit [ https://singpromos.com/dining-restaurants-food/manhattan-fish-market-54-off-3-course-set-meal-15-outlets-19-jun-2015-151368/ ]. 
LOCATION:
URL:https://singpromos.com/dining-restaurants-food/manhattan-fish-market-54-off-3-course-set-meal-15-outlets-19-jun-2015-151368/
END:VEVENT
END:VCALENDAR