BEGIN:VCALENDAR
PRODID:-//SINGPromos.com//NONSGML v1.0//EN
VERSION:2.0
CALSCALE:GREGORIAN
METHOD:PUBLISH
X-WR-CALNAME:SINGPromos.com
X-ORIGINAL-URL:https://singpromos.com
X-WR-CALDESC:Events for SINGPromos.com
BEGIN:VEVENT
DTSTART:20150619T000000
DTEND:20150621T235900
DTSTAMP:20260422T082323
CREATED:20150619T140551
LAST-MODIFIED:20150619T140551
UID:151397@https://singpromos.com
SUMMARY:Haagen-Dazs Samples Giveaway @ Selected Fairprice Outlets 19 - 21 Jun 2015
DESCRIPTION:Enjoy FREE samples of Haagen-Dazs new flavours - Yuzu Citrus & Cream, Blueberries & Cream, Mango & Raspberry at selected locations islandwide. For more information, visit [ https://singpromos.com/dining-restaurants-food/haagen-dazs-samples-giveaway-selected-fairprice-outlets-19-21-jun-2015-151397/ ]. 
LOCATION:
URL:https://singpromos.com/dining-restaurants-food/haagen-dazs-samples-giveaway-selected-fairprice-outlets-19-21-jun-2015-151397/
END:VEVENT
END:VCALENDAR