BEGIN:VCALENDAR
PRODID:-//SINGPromos.com//NONSGML v1.0//EN
VERSION:2.0
CALSCALE:GREGORIAN
METHOD:PUBLISH
X-WR-CALNAME:SINGPromos.com
X-ORIGINAL-URL:https://singpromos.com
X-WR-CALDESC:Events for SINGPromos.com
BEGIN:VEVENT
DTSTART:20150621T000000
DTEND:20150621T235900
DTSTAMP:20260422T082318
CREATED:20150621T110622
LAST-MODIFIED:20150621T110622
UID:151637@https://singpromos.com
SUMMARY:FoodPanda $5 OFF $15 Spend 1-Day Coupon Code (New/Existing Customers) 21 Jun 2015
DESCRIPTION:Enjoy $5 OFF on all restaurants for a limited time only. For more information, visit [ https://singpromos.com/dining-restaurants-food/foodpanda-5-off-15-spend-1-day-coupon-code-newexisting-customers-21-jun-2015-151637/ ]. 
LOCATION:
URL:https://singpromos.com/dining-restaurants-food/foodpanda-5-off-15-spend-1-day-coupon-code-newexisting-customers-21-jun-2015-151637/
END:VEVENT
END:VCALENDAR