BEGIN:VCALENDAR
PRODID:-//SINGPromos.com//NONSGML v1.0//EN
VERSION:2.0
CALSCALE:GREGORIAN
METHOD:PUBLISH
X-WR-CALNAME:SINGPromos.com
X-ORIGINAL-URL:https://singpromos.com
X-WR-CALDESC:Events for SINGPromos.com
BEGIN:VEVENT
DTSTART:20110923T000000
DTEND:20110923T235900
DTSTAMP:20260420T040700
CREATED:20110923T133853
LAST-MODIFIED:20110924T131801
UID:15172@https://singpromos.com
SUMMARY:LIMITED OFFER: Little Cherry Restaurant 40% Off Korean BBQ Lunch Or Dinner Buffet 23 Sep 2011
DESCRIPTION:Enjoy a special offer of $10.90 for Korean BBQ Lunch Buffet or $12.40 for Dinner Buffet for 1 pax at Little Cherry Restaurant (Worth up to $20.70) - that's up to 41% off. Learn how to get this deal before it expires soon. For more information, visit [ https://singpromos.com/dining-restaurants-food/little-cherry-restaurant-40-off-korean-bbq-lunch-or-dinner-buffet-23-sep-2011-15172/ ]. 
LOCATION:9 Tan Quee Lan Street
URL:https://singpromos.com/dining-restaurants-food/little-cherry-restaurant-40-off-korean-bbq-lunch-or-dinner-buffet-23-sep-2011-15172/
END:VEVENT
END:VCALENDAR