BEGIN:VCALENDAR
PRODID:-//SINGPromos.com//NONSGML v1.0//EN
VERSION:2.0
CALSCALE:GREGORIAN
METHOD:PUBLISH
X-WR-CALNAME:SINGPromos.com
X-ORIGINAL-URL:https://singpromos.com
X-WR-CALDESC:Events for SINGPromos.com
BEGIN:VEVENT
DTSTART:20150622T000000
DTEND:20150628T235900
DTSTAMP:20260422T082321
CREATED:20150622T184336
LAST-MODIFIED:20150622T184336
UID:151736@https://singpromos.com
SUMMARY:Celio Up to 70% Off Great Singapore Sale 22 Jun 2015
DESCRIPTION:Enjoy up to 70% off. For more information, visit [ https://singpromos.com/fashion-accessories/celio-up-to-70-off-great-singapore-sale-22-jun-2015-151736/ ]. 
LOCATION:
URL:https://singpromos.com/fashion-accessories/celio-up-to-70-off-great-singapore-sale-22-jun-2015-151736/
END:VEVENT
END:VCALENDAR