BEGIN:VCALENDAR
PRODID:-//SINGPromos.com//NONSGML v1.0//EN
VERSION:2.0
CALSCALE:GREGORIAN
METHOD:PUBLISH
X-WR-CALNAME:SINGPromos.com
X-ORIGINAL-URL:https://singpromos.com
X-WR-CALDESC:Events for SINGPromos.com
BEGIN:VEVENT
DTSTART:20150625T000000
DTEND:20150628T235900
DTSTAMP:20260422T082230
CREATED:20150623T225958
LAST-MODIFIED:20150628T130348
UID:151815@https://singpromos.com
SUMMARY:Great Singapore Sale IT & Electronics 2015 @ Singapore Expo 25 - 28 Jun 2015
DESCRIPTION:10,000 worth of stocks to clear. Lowest prices guaranteed.. For more information, visit [ https://singpromos.com/happenings/great-singapore-sale-it-electronics-2015-singapore-expo-25-28-jun-2015-151815/ ]. 
LOCATION:486150
URL:https://singpromos.com/happenings/great-singapore-sale-it-electronics-2015-singapore-expo-25-28-jun-2015-151815/
END:VEVENT
END:VCALENDAR