BEGIN:VCALENDAR
PRODID:-//SINGPromos.com//NONSGML v1.0//EN
VERSION:2.0
CALSCALE:GREGORIAN
METHOD:PUBLISH
X-WR-CALNAME:SINGPromos.com
X-ORIGINAL-URL:https://singpromos.com
X-WR-CALDESC:Events for SINGPromos.com
BEGIN:VEVENT
DTSTART:20150625T000000
DTEND:20150628T235900
DTSTAMP:20260420T232639
CREATED:20150624T154344
LAST-MODIFIED:20150626T011213
UID:151894@https://singpromos.com
SUMMARY:Royal Sporting House Warehouse SALE 25 - 28 Jun 2015
DESCRIPTION:Brands include Asics, Wilson, Puma, Reebok, adidas and more. For more information, visit [ https://singpromos.com/warehouse-sales/royal-sporting-house-warehouse-sale-25-28-jun-2015-151894/ ]. 
LOCATION:190 Macpherson Rd, 348548
URL:https://singpromos.com/warehouse-sales/royal-sporting-house-warehouse-sale-25-28-jun-2015-151894/
END:VEVENT
END:VCALENDAR