BEGIN:VCALENDAR
PRODID:-//SINGPromos.com//NONSGML v1.0//EN
VERSION:2.0
CALSCALE:GREGORIAN
METHOD:PUBLISH
X-WR-CALNAME:SINGPromos.com
X-ORIGINAL-URL:https://singpromos.com
X-WR-CALDESC:Events for SINGPromos.com
BEGIN:VEVENT
DTSTART:20150626T000000
DTEND:20150726T235900
DTSTAMP:20260422T082120
CREATED:20150626T145739
LAST-MODIFIED:20150723T154350
UID:152111@https://singpromos.com
SUMMARY:John Little Moving Out Sale @ Tiong Bahru 26 Jun - 26 Jul 2015
DESCRIPTION:Enjoy up to 90% off - Everything must go. For more information, visit [ https://singpromos.com/department-stores/john-little-moving-out-sale-tiong-bahru-26-jun-2015-152111/ ]. 
LOCATION:168732
URL:https://singpromos.com/department-stores/john-little-moving-out-sale-tiong-bahru-26-jun-2015-152111/
END:VEVENT
END:VCALENDAR