BEGIN:VCALENDAR
PRODID:-//SINGPromos.com//NONSGML v1.0//EN
VERSION:2.0
CALSCALE:GREGORIAN
METHOD:PUBLISH
X-WR-CALNAME:SINGPromos.com
X-ORIGINAL-URL:https://singpromos.com
X-WR-CALDESC:Events for SINGPromos.com
BEGIN:VEVENT
DTSTART:20150629T000000
DTEND:20150629T235900
DTSTAMP:20260422T082107
CREATED:20150627T165338
LAST-MODIFIED:20150627T181615
UID:152197@https://singpromos.com
SUMMARY:Lazada Monday Mania 12hr Special Offers 29 Jun 2015
DESCRIPTION:Casio Mens Edifice Chronograph Watch, Fuji Instax Share, Gopro Hero4, Romoss Sense 4 Powerbank and more. For more information, visit [ https://singpromos.com/department-stores/lazada-monday-mania-12hr-special-offers-29-jun-2015-152197/ ]. 
LOCATION:
URL:https://singpromos.com/department-stores/lazada-monday-mania-12hr-special-offers-29-jun-2015-152197/
END:VEVENT
END:VCALENDAR