BEGIN:VCALENDAR
PRODID:-//SINGPromos.com//NONSGML v1.0//EN
VERSION:2.0
CALSCALE:GREGORIAN
METHOD:PUBLISH
X-WR-CALNAME:SINGPromos.com
X-ORIGINAL-URL:https://singpromos.com
X-WR-CALDESC:Events for SINGPromos.com
BEGIN:VEVENT
DTSTART:20150629T000000
DTEND:20150705T235900
DTSTAMP:20260422T082318
CREATED:20150629T012339
LAST-MODIFIED:20150629T012339
UID:152445@https://singpromos.com
SUMMARY:TigerAir fr $42 (all-in) Promo Fares 29 Jun - 5 Jul 2015
DESCRIPTION:Enjoy promo fares from $42 to Kuala Lumpur, Phuket, Jakarta, Ho Chi Minh City, Krabi, Ipoh, Penang, Langkawi, Bangkok (Suvarnabhumi), Hat Yai, Surabaya & more. For more information, visit [ https://singpromos.com/airlines-flights/tigerair-fr-42-all-in-promo-fares-29-jun-5-jul-2015-152445/ ]. 
LOCATION:
URL:https://singpromos.com/airlines-flights/tigerair-fr-42-all-in-promo-fares-29-jun-5-jul-2015-152445/
END:VEVENT
END:VCALENDAR