BEGIN:VCALENDAR
PRODID:-//SINGPromos.com//NONSGML v1.0//EN
VERSION:2.0
CALSCALE:GREGORIAN
METHOD:PUBLISH
X-WR-CALNAME:SINGPromos.com
X-ORIGINAL-URL:https://singpromos.com
X-WR-CALDESC:Events for SINGPromos.com
BEGIN:VEVENT
DTSTART:20150629T000000
DTEND:20150705T235900
DTSTAMP:20260422T082322
CREATED:20150629T212817
LAST-MODIFIED:20150629T212830
UID:152497@https://singpromos.com
SUMMARY:Mayer Hari Raya Specials Atrium Event @ Causeway Point 29 Jun - 5 Jul 2015
DESCRIPTION:10% off new launch. Free gift worth $129 with purchase of Kitchen Aid Stand Mixer KSM150. For more information, visit [ https://singpromos.com/happenings/mayer-hari-raya-specials-atrium-event-causeway-point-29-jun-5-jul-2015-152497/ ]. 
LOCATION:738099
URL:https://singpromos.com/happenings/mayer-hari-raya-specials-atrium-event-causeway-point-29-jun-5-jul-2015-152497/
END:VEVENT
END:VCALENDAR