BEGIN:VCALENDAR
PRODID:-//SINGPromos.com//NONSGML v1.0//EN
VERSION:2.0
CALSCALE:GREGORIAN
METHOD:PUBLISH
X-WR-CALNAME:SINGPromos.com
X-ORIGINAL-URL:https://singpromos.com
X-WR-CALDESC:Events for SINGPromos.com
BEGIN:VEVENT
DTSTART:20110110T000000
DTEND:20110210T235900
DTSTAMP:20260420T155617
CREATED:20110110T151255
LAST-MODIFIED:20110210T184540
UID:1529@https://singpromos.com
SUMMARY:KFC Fortune Feast New Year Offer January 2011
DESCRIPTION:KFC is offering 8 pcs chicken, 4 regular Pepsi, 3 whipped potato/coleslaw and 6 pcs Fortune Fish Rings for only $29.90. Plus, get a free pair of cushion covers thrown in.. For more information, visit [ https://singpromos.com/dining-restaurants-food/kfc-fortune-feast-new-year-offer-january-2011-1529/ ]. 
LOCATION:
URL:https://singpromos.com/dining-restaurants-food/kfc-fortune-feast-new-year-offer-january-2011-1529/
END:VEVENT
END:VCALENDAR