BEGIN:VCALENDAR
PRODID:-//SINGPromos.com//NONSGML v1.0//EN
VERSION:2.0
CALSCALE:GREGORIAN
METHOD:PUBLISH
X-WR-CALNAME:SINGPromos.com
X-ORIGINAL-URL:https://singpromos.com
X-WR-CALDESC:Events for SINGPromos.com
BEGIN:VEVENT
DTSTART:20150707T000000
DTEND:20150831T235900
DTSTAMP:20260420T175809
CREATED:20150707T172946
LAST-MODIFIED:20150707T172946
UID:153176@https://singpromos.com
SUMMARY:Norman Up To 15% Off Security Software Coupon Codes 7 Jul - 31 Aug 2015
DESCRIPTION:Get up to 15% OFF on Norman Security Suite PRO, Security Suite, Antivirus and more. For more information, visit [ https://singpromos.com/computers-pc/norman-up-to-15-off-security-software-coupon-codes-7-jul-31-aug-2015-153176/ ]. 
LOCATION:
URL:https://singpromos.com/computers-pc/norman-up-to-15-off-security-software-coupon-codes-7-jul-31-aug-2015-153176/
END:VEVENT
END:VCALENDAR