BEGIN:VCALENDAR
PRODID:-//SINGPromos.com//NONSGML v1.0//EN
VERSION:2.0
CALSCALE:GREGORIAN
METHOD:PUBLISH
X-WR-CALNAME:SINGPromos.com
X-ORIGINAL-URL:https://singpromos.com
X-WR-CALDESC:Events for SINGPromos.com
BEGIN:VEVENT
DTSTART:20150708T000000
DTEND:20150720T235900
DTSTAMP:20260420T232627
CREATED:20150708T002651
LAST-MODIFIED:20150708T002651
UID:153225@https://singpromos.com
SUMMARY:Isetan Festive Home Bazaar @ Nex 8 - 20 Jul 2015
DESCRIPTION:Enjoy yp to 70% off Happycall, WMF, Panasonic, Neoflam, Toyomi and Zebra. For more information, visit [ https://singpromos.com/happenings/isetan-festive-home-bazaar-nex-8-20-jul-2015-153225/ ]. 
LOCATION:556083
URL:https://singpromos.com/happenings/isetan-festive-home-bazaar-nex-8-20-jul-2015-153225/
END:VEVENT
END:VCALENDAR