BEGIN:VCALENDAR
PRODID:-//SINGPromos.com//NONSGML v1.0//EN
VERSION:2.0
CALSCALE:GREGORIAN
METHOD:PUBLISH
X-WR-CALNAME:SINGPromos.com
X-ORIGINAL-URL:https://singpromos.com
X-WR-CALDESC:Events for SINGPromos.com
BEGIN:VEVENT
DTSTART:20150709T000000
DTEND:20150930T235900
DTSTAMP:20260419T213908
CREATED:20150709T122835
LAST-MODIFIED:20150709T122835
UID:153240@https://singpromos.com
SUMMARY:PAssion 2,000 FREE Courses For Citizens & PRs 9 Jul - 30 Sep 2015
DESCRIPTION:In celebration of SG50, PA will be offering 2,000 selected free courses from now till end of September 2015 to all Singaporeans and PRs.. For more information, visit [ https://singpromos.com/news/passion-2000-free-courses-for-citizens-prs-9-jul-30-sep-2015-153240/ ]. 
LOCATION:
URL:https://singpromos.com/news/passion-2000-free-courses-for-citizens-prs-9-jul-30-sep-2015-153240/
END:VEVENT
END:VCALENDAR