BEGIN:VCALENDAR
PRODID:-//SINGPromos.com//NONSGML v1.0//EN
VERSION:2.0
CALSCALE:GREGORIAN
METHOD:PUBLISH
X-WR-CALNAME:SINGPromos.com
X-ORIGINAL-URL:https://singpromos.com
X-WR-CALDESC:Events for SINGPromos.com
BEGIN:VEVENT
DTSTART:20150709T000000
DTEND:20150712T235900
DTSTAMP:20260422T082322
CREATED:20150709T201626
LAST-MODIFIED:20150709T201626
UID:153381@https://singpromos.com
SUMMARY:John Little 20% Off Promotion 9 - 12 Jul 2015
DESCRIPTION:Enjoy up to 80% off sale items + 20% off regular-priced items.. For more information, visit [ https://singpromos.com/department-stores/john-little-20-off-promotion-9-12-jul-2015-153381/ ]. 
LOCATION:
URL:https://singpromos.com/department-stores/john-little-20-off-promotion-9-12-jul-2015-153381/
END:VEVENT
END:VCALENDAR