BEGIN:VCALENDAR
PRODID:-//SINGPromos.com//NONSGML v1.0//EN
VERSION:2.0
CALSCALE:GREGORIAN
METHOD:PUBLISH
X-WR-CALNAME:SINGPromos.com
X-ORIGINAL-URL:https://singpromos.com
X-WR-CALDESC:Events for SINGPromos.com
BEGIN:VEVENT
DTSTART:20150713T000000
DTEND:20150719T235900
DTSTAMP:20260420T232627
CREATED:20150713T020954
LAST-MODIFIED:20150713T020954
UID:153682@https://singpromos.com
SUMMARY:Air Asia Go fr $139/pax 3D2N Flights + Hotel + Taxes Promo 13 - 19 Jul 2015
DESCRIPTION:Sale Off to your Next Getaway promotion featuring fr $139/pax 3D2N Flights + Hotel + Taxes and fr $59/night hotel deals at Japan, Hong Kong / Taiwan, Australia, Vietnam and more. For more information, visit [ https://singpromos.com/vacations/air-asia-go-fr-139pax-3d2n-flights-hotel-taxes-promo-13-19-jul-2015-153682/ ]. 
LOCATION:
URL:https://singpromos.com/vacations/air-asia-go-fr-139pax-3d2n-flights-hotel-taxes-promo-13-19-jul-2015-153682/
END:VEVENT
END:VCALENDAR