BEGIN:VCALENDAR
PRODID:-//SINGPromos.com//NONSGML v1.0//EN
VERSION:2.0
CALSCALE:GREGORIAN
METHOD:PUBLISH
X-WR-CALNAME:SINGPromos.com
X-ORIGINAL-URL:https://singpromos.com
X-WR-CALDESC:Events for SINGPromos.com
BEGIN:VEVENT
DTSTART:20150720T000000
DTEND:20150726T235900
DTSTAMP:20260422T082317
CREATED:20150717T160801
LAST-MODIFIED:20150716T202451
UID:153971@https://singpromos.com
SUMMARY:Singtel Roadshow @ Northpoint 20 - 26 Jul 2015
DESCRIPTION:Enjoy free two months with sign up of 500M fibre broadband with Singtel TV. For more information, visit [ https://singpromos.com/happenings/singtel-roadshow-northpoint-20-26-jul-2015-153971/ ]. 
LOCATION:769098
URL:https://singpromos.com/happenings/singtel-roadshow-northpoint-20-26-jul-2015-153971/
END:VEVENT
END:VCALENDAR