BEGIN:VCALENDAR
PRODID:-//SINGPromos.com//NONSGML v1.0//EN
VERSION:2.0
CALSCALE:GREGORIAN
METHOD:PUBLISH
X-WR-CALNAME:SINGPromos.com
X-ORIGINAL-URL:https://singpromos.com
X-WR-CALDESC:Events for SINGPromos.com
BEGIN:VEVENT
DTSTART:20150720T000000
DTEND:20150802T235900
DTSTAMP:20260422T062953
CREATED:20150719T040936
LAST-MODIFIED:20150718T221125
UID:154255@https://singpromos.com
SUMMARY:Triumph Lingerie Fair @ Thomson Plaza 20 Jul - 2 Aug 2015
DESCRIPTION:Enjoy up to 70% OFF Triumph bras and panties.. For more information, visit [ https://singpromos.com/happenings/triumph-lingerie-fair-thomson-plaza-20-jul-2-aug-2015-154255/ ]. 
LOCATION:
URL:https://singpromos.com/happenings/triumph-lingerie-fair-thomson-plaza-20-jul-2-aug-2015-154255/
END:VEVENT
END:VCALENDAR