BEGIN:VCALENDAR
PRODID:-//SINGPromos.com//NONSGML v1.0//EN
VERSION:2.0
CALSCALE:GREGORIAN
METHOD:PUBLISH
X-WR-CALNAME:SINGPromos.com
X-ORIGINAL-URL:https://singpromos.com
X-WR-CALDESC:Events for SINGPromos.com
BEGIN:VEVENT
DTSTART:20110929T000000
DTEND:20111016T235900
DTSTAMP:20260422T082134
CREATED:20110929T144002
LAST-MODIFIED:20111014T223830
UID:15435@https://singpromos.com
SUMMARY:Hush Puppies Apparel Warehouse Sale 29 Sep - 16 Oct 2011
DESCRIPTION:Redina Trading is having a Hush Puppies Apparel annual warehouse sale with up to 80% off from today till 16 October 2011, 1030am to 7pm daily at 17 Bukit Batok Street 22.. For more information, visit [ https://singpromos.com/fashion-accessories/hush-puppies-apparel-warehouse-sale-29-sep-16-oct-2011-15435/ ]. 
LOCATION:17 Bukit Batok Street 22
URL:https://singpromos.com/fashion-accessories/hush-puppies-apparel-warehouse-sale-29-sep-16-oct-2011-15435/
END:VEVENT
END:VCALENDAR