BEGIN:VCALENDAR
PRODID:-//SINGPromos.com//NONSGML v1.0//EN
VERSION:2.0
CALSCALE:GREGORIAN
METHOD:PUBLISH
X-WR-CALNAME:SINGPromos.com
X-ORIGINAL-URL:https://singpromos.com
X-WR-CALDESC:Events for SINGPromos.com
BEGIN:VEVENT
DTSTART:20150806T000000
DTEND:20150823T235900
DTSTAMP:20260420T035756
CREATED:20150721T192605
LAST-MODIFIED:20150804T173728
UID:154416@https://singpromos.com
SUMMARY:IKEA Mega Sale Featuring $50, 50% Off & 50 Cent Offers 6 - 23 Aug 2015
DESCRIPTION:From 6 August to 23 August, shop your hearts away as IKEA offers massive discounts and great deals of $50, 50% off and 50cent offers store-wide. For more information, visit [ https://singpromos.com/department-stores/ikea-mega-sale-featuring-50-50-off-50-cent-offers-6-23-aug-2015-154416/ ]. 
LOCATION:
URL:https://singpromos.com/department-stores/ikea-mega-sale-featuring-50-50-off-50-cent-offers-6-23-aug-2015-154416/
END:VEVENT
END:VCALENDAR