BEGIN:VCALENDAR
PRODID:-//SINGPromos.com//NONSGML v1.0//EN
VERSION:2.0
CALSCALE:GREGORIAN
METHOD:PUBLISH
X-WR-CALNAME:SINGPromos.com
X-ORIGINAL-URL:https://singpromos.com
X-WR-CALDESC:Events for SINGPromos.com
BEGIN:VEVENT
DTSTART:20150724T000000
DTEND:20151031T235900
DTSTAMP:20260419T230542
CREATED:20150724T160642
LAST-MODIFIED:20150724T160720
UID:154831@https://singpromos.com
SUMMARY:Mad For Garlic 1 for 1 Pizzas & Pastas Coupon 24 Jul - 31 Oct 2015
DESCRIPTION:Buy 1 get 1 free on pizza or pasta. Plus enjoy 30% discount on food items. For more information, visit [ https://singpromos.com/dining-restaurants-food/mad-for-garlic-1-for-1-pizzas-pastas-coupon-24-jul-31-oct-2015-154831/ ]. 
LOCATION:038983
URL:https://singpromos.com/dining-restaurants-food/mad-for-garlic-1-for-1-pizzas-pastas-coupon-24-jul-31-oct-2015-154831/
END:VEVENT
END:VCALENDAR