BEGIN:VCALENDAR
PRODID:-//SINGPromos.com//NONSGML v1.0//EN
VERSION:2.0
CALSCALE:GREGORIAN
METHOD:PUBLISH
X-WR-CALNAME:SINGPromos.com
X-ORIGINAL-URL:https://singpromos.com
X-WR-CALDESC:Events for SINGPromos.com
BEGIN:VEVENT
DTSTART:20150724T000000
DTEND:20151130T235900
DTSTAMP:20260422T082305
CREATED:20150724T181713
LAST-MODIFIED:20150724T181713
UID:154865@https://singpromos.com
SUMMARY:Tony Roma's Dine-in Discount Coupons 24 Jul - 30 Nov 2015
DESCRIPTION:20% Discount (Mon-Thu), 15% Discount (Fri-Sun), Buy 2 Get 1 Free main course and more. For more information, visit [ https://singpromos.com/dining-restaurants-food/tony-romas-dine-in-discount-coupons-24-jul-30-nov-2015-154865/ ]. 
LOCATION:
URL:https://singpromos.com/dining-restaurants-food/tony-romas-dine-in-discount-coupons-24-jul-30-nov-2015-154865/
END:VEVENT
END:VCALENDAR