BEGIN:VCALENDAR
PRODID:-//SINGPromos.com//NONSGML v1.0//EN
VERSION:2.0
CALSCALE:GREGORIAN
METHOD:PUBLISH
X-WR-CALNAME:SINGPromos.com
X-ORIGINAL-URL:https://singpromos.com
X-WR-CALDESC:Events for SINGPromos.com
BEGIN:VEVENT
DTSTART:20150807T000000
DTEND:20150808T235900
DTSTAMP:20260422T082316
CREATED:20150727T115406
LAST-MODIFIED:20150727T115912
UID:155073@https://singpromos.com
SUMMARY:Big Box Durian Buffet 7 - 8 Aug 2015
DESCRIPTION:Big Box will be having a second durian buffet session featuring durians from Malaysia. Prices are $26 for members and $36 for non-members. For more information, visit [ https://singpromos.com/dining-restaurants-food/big-box-durian-buffet-7-8-aug-2015-155073/ ]. 
LOCATION:608521
URL:https://singpromos.com/dining-restaurants-food/big-box-durian-buffet-7-8-aug-2015-155073/
END:VEVENT
END:VCALENDAR