BEGIN:VCALENDAR
PRODID:-//SINGPromos.com//NONSGML v1.0//EN
VERSION:2.0
CALSCALE:GREGORIAN
METHOD:PUBLISH
X-WR-CALNAME:SINGPromos.com
X-ORIGINAL-URL:https://singpromos.com
X-WR-CALDESC:Events for SINGPromos.com
BEGIN:VEVENT
DTSTART:20150730T000000
DTEND:20150831T235900
DTSTAMP:20260424T032135
CREATED:20150730T130402
LAST-MODIFIED:20150805T133525
UID:155399@https://singpromos.com
SUMMARY:O'Coffee Club 1 For 1 Iced & Blended Beverages @ Orchard Point 30 Jul - 31 Aug 2015
DESCRIPTION:Enjoy 1 For 1 Iced & Blended Beverages at Orchard Point. For more information, visit [ https://singpromos.com/dining-restaurants-food/ocoffee-club-1-for-1-iced-blended-beverages-30-jul-31-aug-2015-155399/ ]. 
LOCATION:238842
URL:https://singpromos.com/dining-restaurants-food/ocoffee-club-1-for-1-iced-blended-beverages-30-jul-31-aug-2015-155399/
END:VEVENT
END:VCALENDAR