BEGIN:VCALENDAR
PRODID:-//SINGPromos.com//NONSGML v1.0//EN
VERSION:2.0
CALSCALE:GREGORIAN
METHOD:PUBLISH
X-WR-CALNAME:SINGPromos.com
X-ORIGINAL-URL:https://singpromos.com
X-WR-CALDESC:Events for SINGPromos.com
BEGIN:VEVENT
DTSTART:20150801T000000
DTEND:20150831T235900
DTSTAMP:20260420T042626
CREATED:20150721T182312
LAST-MODIFIED:20150731T182610
UID:155587@https://singpromos.com
SUMMARY:SGNIC $5 .sg / .com.sg & More Domain Names Promotion 1 - 31 Aug 2015
DESCRIPTION:All new domain names for selected extensions will be available at SGD$5.00 each or lower for the first year. For more information, visit [ https://singpromos.com/web-hosting/sgnic-5-sg-com-sg-more-domain-names-promotion-1-31-aug-2015-155587/ ]. 
LOCATION:
URL:https://singpromos.com/web-hosting/sgnic-5-sg-com-sg-more-domain-names-promotion-1-31-aug-2015-155587/
END:VEVENT
END:VCALENDAR