BEGIN:VCALENDAR
PRODID:-//SINGPromos.com//NONSGML v1.0//EN
VERSION:2.0
CALSCALE:GREGORIAN
METHOD:PUBLISH
X-WR-CALNAME:SINGPromos.com
X-ORIGINAL-URL:https://singpromos.com
X-WR-CALDESC:Events for SINGPromos.com
BEGIN:VEVENT
DTSTART:20150807T000000
DTEND:20150810T235900
DTSTAMP:20260420T050918
CREATED:20150807T172121
LAST-MODIFIED:20150807T172121
UID:156383@https://singpromos.com
SUMMARY:World of Sports 30% Off Jubilee Celebrations 7 - 10 Aug 2015
DESCRIPTION:Valid at all World of Sports, World of Outdoors, Columbia, Mizuno, Saloman outlets too. For more information, visit [ https://singpromos.com/fashion-accessories/world-of-sports-30-off-jubilee-celebrations-7-10-aug-2015-156383/ ]. 
LOCATION:
URL:https://singpromos.com/fashion-accessories/world-of-sports-30-off-jubilee-celebrations-7-10-aug-2015-156383/
END:VEVENT
END:VCALENDAR