BEGIN:VCALENDAR
PRODID:-//SINGPromos.com//NONSGML v1.0//EN
VERSION:2.0
CALSCALE:GREGORIAN
METHOD:PUBLISH
X-WR-CALNAME:SINGPromos.com
X-ORIGINAL-URL:https://singpromos.com
X-WR-CALDESC:Events for SINGPromos.com
BEGIN:VEVENT
DTSTART:20150828T000000
DTEND:20150830T235900
DTSTAMP:20260422T082323
CREATED:20150817T174901
LAST-MODIFIED:20150829T212311
UID:157041@https://singpromos.com
SUMMARY:Baby Expo Fair @ Singapore Expo 28 - 30 Aug 2015
DESCRIPTION:Enjoy up to 90% off car seats, cot beds, buggy, baby monitors and more. For more information, visit [ https://singpromos.com/happenings/baby-expo-fair-singapore-expo-28-30-aug-2015-157041/ ]. 
LOCATION:486150
URL:https://singpromos.com/happenings/baby-expo-fair-singapore-expo-28-30-aug-2015-157041/
END:VEVENT
END:VCALENDAR