BEGIN:VCALENDAR
PRODID:-//SINGPromos.com//NONSGML v1.0//EN
VERSION:2.0
CALSCALE:GREGORIAN
METHOD:PUBLISH
X-WR-CALNAME:SINGPromos.com
X-ORIGINAL-URL:https://singpromos.com
X-WR-CALDESC:Events for SINGPromos.com
BEGIN:VEVENT
DTSTART:20110920T000000
DTEND:20111231T235900
DTSTAMP:20260422T195456
CREATED:20111003T012714
LAST-MODIFIED:20111003T012714
UID:15719@https://singpromos.com
SUMMARY:Epson LED & Laser Printers Price List 20 Sep - 31 Dec 2011
DESCRIPTION:Here is Epson's new range of colour and monochrome LED and laser printers price list valid till 31 Dec 2011. All the speed and cost efficiency for your business needs. For more information, visit [ https://singpromos.com/computers-pc/printers/epson-led-laser-printers-price-list-20-sep-31-dec-2011-15719/ ]. 
LOCATION:
URL:https://singpromos.com/computers-pc/printers/epson-led-laser-printers-price-list-20-sep-31-dec-2011-15719/
END:VEVENT
END:VCALENDAR