BEGIN:VCALENDAR
PRODID:-//SINGPromos.com//NONSGML v1.0//EN
VERSION:2.0
CALSCALE:GREGORIAN
METHOD:PUBLISH
X-WR-CALNAME:SINGPromos.com
X-ORIGINAL-URL:https://singpromos.com
X-WR-CALDESC:Events for SINGPromos.com
BEGIN:VEVENT
DTSTART:20150826T000000
DTEND:20151031T235900
DTSTAMP:20260423T223153
CREATED:20150826T105837
LAST-MODIFIED:20150826T110548
UID:157835@https://singpromos.com
SUMMARY:O'Coffee Club 1-for-1 Beverages For DBS/POSB Cardmembers 26 Aug - 31 Oct 2015
DESCRIPTION:Good things come in pairs! DBS/POSB cardmembers and O'Coffee Club Club Royalty members enjoy 1 for 1 Beverages at O'Coffee Club. For more information, visit [ https://singpromos.com/dining-restaurants-food/ocoffee-club-1-for-1-beverages-for-dbsposb-cardmembers-26-aug-31-oct-2015-157835/ ]. 
LOCATION:
URL:https://singpromos.com/dining-restaurants-food/ocoffee-club-1-for-1-beverages-for-dbsposb-cardmembers-26-aug-31-oct-2015-157835/
END:VEVENT
END:VCALENDAR