BEGIN:VCALENDAR
PRODID:-//SINGPromos.com//NONSGML v1.0//EN
VERSION:2.0
CALSCALE:GREGORIAN
METHOD:PUBLISH
X-WR-CALNAME:SINGPromos.com
X-ORIGINAL-URL:https://singpromos.com
X-WR-CALDESC:Events for SINGPromos.com
BEGIN:VEVENT
DTSTART:20150827T000000
DTEND:20150927T235900
DTSTAMP:20260420T035756
CREATED:20150828T131526
LAST-MODIFIED:20150828T131526
UID:157969@https://singpromos.com
SUMMARY:IKEA Promo Offers 27 Aug - 27 Sep 2015
DESCRIPTION:Murgrona Curtains, Snekkersten Rug Low Pile, Forbluffad Pot With Lid, Stabil Steamer Insert, Duktig Play Kitchen and more. For more information, visit [ https://singpromos.com/department-stores/ikea-promo-offers-27-aug-27-sep-2015-157969/ ]. 
LOCATION:
URL:https://singpromos.com/department-stores/ikea-promo-offers-27-aug-27-sep-2015-157969/
END:VEVENT
END:VCALENDAR