BEGIN:VCALENDAR
PRODID:-//SINGPromos.com//NONSGML v1.0//EN
VERSION:2.0
CALSCALE:GREGORIAN
METHOD:PUBLISH
X-WR-CALNAME:SINGPromos.com
X-ORIGINAL-URL:https://singpromos.com
X-WR-CALDESC:Events for SINGPromos.com
BEGIN:VEVENT
DTSTART:20150829T000000
DTEND:20150902T235900
DTSTAMP:20260420T172726
CREATED:20150829T144422
LAST-MODIFIED:20150829T144422
UID:158121@https://singpromos.com
SUMMARY:Singtel Broadband, Mobile & TV Offers 29 Aug - 2 Sep 2015
DESCRIPTION:1Gbps Unlimited $50/mth registration fee waiver, 1Gbps $69.90/mth free 3 months' subscription, 500M $59.90/mth Fibre Free 2 months' subscription & more. For more information, visit [ https://singpromos.com/telecoms/singtel-broadband-mobile-tv-offers-29-aug-2-sep-2015-158121/ ]. 
LOCATION:
URL:https://singpromos.com/telecoms/singtel-broadband-mobile-tv-offers-29-aug-2-sep-2015-158121/
END:VEVENT
END:VCALENDAR