BEGIN:VCALENDAR
PRODID:-//SINGPromos.com//NONSGML v1.0//EN
VERSION:2.0
CALSCALE:GREGORIAN
METHOD:PUBLISH
X-WR-CALNAME:SINGPromos.com
X-ORIGINAL-URL:https://singpromos.com
X-WR-CALDESC:Events for SINGPromos.com
BEGIN:VEVENT
DTSTART:20150830T000000
DTEND:20150930T235900
DTSTAMP:20260422T082149
CREATED:20150830T090801
LAST-MODIFIED:20150830T010948
UID:158177@https://singpromos.com
SUMMARY:Joop Fashion House Warehouse Sale @ Anchorpoint 30 Aug - 30 Sep 2015
DESCRIPTION:Prices start from $10 onwards. For more information, visit [ https://singpromos.com/warehouse-sales/joop-fashion-house-warehouse-sale-anchorpoint-30-aug-30-sep-2015-158177/ ]. 
LOCATION:159953
URL:https://singpromos.com/warehouse-sales/joop-fashion-house-warehouse-sale-anchorpoint-30-aug-30-sep-2015-158177/
END:VEVENT
END:VCALENDAR