BEGIN:VCALENDAR
PRODID:-//SINGPromos.com//NONSGML v1.0//EN
VERSION:2.0
CALSCALE:GREGORIAN
METHOD:PUBLISH
X-WR-CALNAME:SINGPromos.com
X-ORIGINAL-URL:https://singpromos.com
X-WR-CALDESC:Events for SINGPromos.com
BEGIN:VEVENT
DTSTART:20150927T000000
DTEND:20150927T235900
DTSTAMP:20260422T082126
CREATED:20150901T161529
LAST-MODIFIED:20150831T181542
UID:158256@https://singpromos.com
SUMMARY:Timezone 100% Extra Double Dollar Promo 27 Sep 2015
DESCRIPTION:Buy $30 and get an additional $30 FREE. For more information, visit [ https://singpromos.com/video-games/timezone-100-extra-double-dollar-promo-27-sep-2015-158256/ ]. 
LOCATION:
URL:https://singpromos.com/video-games/timezone-100-extra-double-dollar-promo-27-sep-2015-158256/
END:VEVENT
END:VCALENDAR