BEGIN:VCALENDAR
PRODID:-//SINGPromos.com//NONSGML v1.0//EN
VERSION:2.0
CALSCALE:GREGORIAN
METHOD:PUBLISH
X-WR-CALNAME:SINGPromos.com
X-ORIGINAL-URL:https://singpromos.com
X-WR-CALDESC:Events for SINGPromos.com
BEGIN:VEVENT
DTSTART:20150907T000000
DTEND:20150930T235900
DTSTAMP:20260420T175809
CREATED:20150907T004335
LAST-MODIFIED:20150907T004335
UID:159046@https://singpromos.com
SUMMARY:Norman Up To 15% Off Security Software Coupon Codes 7 - 30 Sep 2015
DESCRIPTION:Get up to 15% OFF on Norman Security Suite PRO, Security Suite, Antivirus and more. For more information, visit [ https://singpromos.com/computers-pc/norman-up-to-15-off-security-software-coupon-codes-7-30-sep-2015-159046/ ]. 
LOCATION:
URL:https://singpromos.com/computers-pc/norman-up-to-15-off-security-software-coupon-codes-7-30-sep-2015-159046/
END:VEVENT
END:VCALENDAR