BEGIN:VCALENDAR
PRODID:-//SINGPromos.com//NONSGML v1.0//EN
VERSION:2.0
CALSCALE:GREGORIAN
METHOD:PUBLISH
X-WR-CALNAME:SINGPromos.com
X-ORIGINAL-URL:https://singpromos.com
X-WR-CALDESC:Events for SINGPromos.com
BEGIN:VEVENT
DTSTART:20150907T000000
DTEND:20151102T235900
DTSTAMP:20260420T015833
CREATED:20150907T115604
LAST-MODIFIED:20151103T110808
UID:159054@https://singpromos.com
SUMMARY:(Over 7700 Sold) Paradise Dynasty 42% Off $50 Cash Voucher Valid @ 7 Outlets 7 Sep 2015
DESCRIPTION:Indulge in picks of xiao long bao, handmade la mian noodles and Shanghai dim sum with this deal: $28.80 for $50 Cash Voucher at 7 Outlets - that's 42% OFF the usual price! Learn how to get this deal before it ends soon. For more information, visit [ https://singpromos.com/dining-restaurants-food/paradise-dynasty-42-off-50-cash-voucher-valid-7-outlets-7-sep-2015-159054/ ]. 
LOCATION:
URL:https://singpromos.com/dining-restaurants-food/paradise-dynasty-42-off-50-cash-voucher-valid-7-outlets-7-sep-2015-159054/
END:VEVENT
END:VCALENDAR