BEGIN:VCALENDAR
PRODID:-//SINGPromos.com//NONSGML v1.0//EN
VERSION:2.0
CALSCALE:GREGORIAN
METHOD:PUBLISH
X-WR-CALNAME:SINGPromos.com
X-ORIGINAL-URL:https://singpromos.com
X-WR-CALDESC:Events for SINGPromos.com
BEGIN:VEVENT
DTSTART:20150911T000000
DTEND:20150913T235900
DTSTAMP:20260422T082109
CREATED:20150911T035353
LAST-MODIFIED:20150911T024121
UID:159367@https://singpromos.com
SUMMARY:John Little 20% Off Promotion 11 - 13 Sep 2015
DESCRIPTION:Enjoy 20% off regular-priced items. For more information, visit [ https://singpromos.com/department-stores/john-little-20-off-promotion-11-13-sep-2015-159367/ ]. 
LOCATION:
URL:https://singpromos.com/department-stores/john-little-20-off-promotion-11-13-sep-2015-159367/
END:VEVENT
END:VCALENDAR