BEGIN:VCALENDAR
PRODID:-//SINGPromos.com//NONSGML v1.0//EN
VERSION:2.0
CALSCALE:GREGORIAN
METHOD:PUBLISH
X-WR-CALNAME:SINGPromos.com
X-ORIGINAL-URL:https://singpromos.com
X-WR-CALDESC:Events for SINGPromos.com
BEGIN:VEVENT
DTSTART:20150923T000000
DTEND:20151018T235900
DTSTAMP:20260422T082302
CREATED:20150922T143915
LAST-MODIFIED:20151010T134536
UID:160859@https://singpromos.com
SUMMARY:Hush Puppies Warehouse Sale 23 Sep - 18 Oct 2015
DESCRIPTION:Get Men's, Ladies' and Kids' Apparel & Undergarment at up to 80% off from Hush Puppies, Jockey, Byford, Alphagear, Regatta Crew and Toppas. For more information, visit [ https://singpromos.com/warehouse-sales/hush-puppies-warehouse-sale-23-sep-11-oct-2015-160859/ ]. 
LOCATION:17 Bukit Batok Street 22, 659587
URL:https://singpromos.com/warehouse-sales/hush-puppies-warehouse-sale-23-sep-11-oct-2015-160859/
END:VEVENT
END:VCALENDAR