BEGIN:VCALENDAR
PRODID:-//SINGPromos.com//NONSGML v1.0//EN
VERSION:2.0
CALSCALE:GREGORIAN
METHOD:PUBLISH
X-WR-CALNAME:SINGPromos.com
X-ORIGINAL-URL:https://singpromos.com
X-WR-CALDESC:Events for SINGPromos.com
BEGIN:VEVENT
DTSTART:20150924T000000
DTEND:20150927T235900
DTSTAMP:20260420T050959
CREATED:20150925T141053
LAST-MODIFIED:20150925T141053
UID:161184@https://singpromos.com
SUMMARY:World Of Sports 40% Off Storewide Sale 24 - 27 Sep 2015
DESCRIPTION:Enjoy a massive 40% storewide at all World of Sports, World of Outdoors, Mizuno, Salomon, Columbia and Eastpak. For more information, visit [ https://singpromos.com/sports/world-of-sports-40-off-storewide-sale-24-27-sep-2015-161184/ ]. 
LOCATION:
URL:https://singpromos.com/sports/world-of-sports-40-off-storewide-sale-24-27-sep-2015-161184/
END:VEVENT
END:VCALENDAR