BEGIN:VCALENDAR
PRODID:-//SINGPromos.com//NONSGML v1.0//EN
VERSION:2.0
CALSCALE:GREGORIAN
METHOD:PUBLISH
X-WR-CALNAME:SINGPromos.com
X-ORIGINAL-URL:https://singpromos.com
X-WR-CALDESC:Events for SINGPromos.com
BEGIN:VEVENT
DTSTART:20150928T000000
DTEND:20151025T235900
DTSTAMP:20260420T053440
CREATED:20150927T133436
LAST-MODIFIED:20150927T133436
UID:161428@https://singpromos.com
SUMMARY:IKEA Promo Offers 28 Sep - 25 Oct 2015
DESCRIPTION:IKEA 365+ pot with lid, LUDDE SHEEPSKIN, CHOSIGT grater with container, OMAR shelf unit, RONGLAN mirror and more. For more information, visit [ https://singpromos.com/department-stores/ikea-promo-offers-28-sep-25-oct-2015-161428/ ]. 
LOCATION:
URL:https://singpromos.com/department-stores/ikea-promo-offers-28-sep-25-oct-2015-161428/
END:VEVENT
END:VCALENDAR