BEGIN:VCALENDAR
PRODID:-//SINGPromos.com//NONSGML v1.0//EN
VERSION:2.0
CALSCALE:GREGORIAN
METHOD:PUBLISH
X-WR-CALNAME:SINGPromos.com
X-ORIGINAL-URL:https://singpromos.com
X-WR-CALDESC:Events for SINGPromos.com
BEGIN:VEVENT
DTSTART:20150929T000000
DTEND:20150929T235900
DTSTAMP:20260420T015833
CREATED:20150929T141418
LAST-MODIFIED:20150930T004919
UID:161590@https://singpromos.com
SUMMARY:Groupon 18% OFF (NO Min Spend) Selected Deals 1-Day Coupon Code 29 Sep 2015
DESCRIPTION:Get 18% off selected deal with the promo code below at checkout.. For more information, visit [ https://singpromos.com/department-stores/groupon-18-off-no-min-spend-selected-deals-1-day-coupon-code-29-sep-2015-161590/ ]. 
LOCATION:
URL:https://singpromos.com/department-stores/groupon-18-off-no-min-spend-selected-deals-1-day-coupon-code-29-sep-2015-161590/
END:VEVENT
END:VCALENDAR