BEGIN:VCALENDAR
PRODID:-//SINGPromos.com//NONSGML v1.0//EN
VERSION:2.0
CALSCALE:GREGORIAN
METHOD:PUBLISH
X-WR-CALNAME:SINGPromos.com
X-ORIGINAL-URL:https://singpromos.com
X-WR-CALDESC:Events for SINGPromos.com
BEGIN:VEVENT
DTSTART:20150930T000000
DTEND:20151025T235900
DTSTAMP:20260422T082123
CREATED:20150930T025606
LAST-MODIFIED:20150929T205914
UID:161663@https://singpromos.com
SUMMARY:MiniInTheBox US$2 to US$12 OFF Min US$30 Spend Storewide Coupon Code 30 Sep - 25 Oct 2015
DESCRIPTION:Get up to US$12 OFF when you make a minimum purchase of US$30. FREE *worldwide* shipping.. For more information, visit [ https://singpromos.com/department-stores/miniinthebox-us2-to-us12-off-min-us30-spend-storewide-coupon-code-30-sep-25-oct-2015-161663/ ]. 
LOCATION:
URL:https://singpromos.com/department-stores/miniinthebox-us2-to-us12-off-min-us30-spend-storewide-coupon-code-30-sep-25-oct-2015-161663/
END:VEVENT
END:VCALENDAR