BEGIN:VCALENDAR
PRODID:-//SINGPromos.com//NONSGML v1.0//EN
VERSION:2.0
CALSCALE:GREGORIAN
METHOD:PUBLISH
X-WR-CALNAME:SINGPromos.com
X-ORIGINAL-URL:https://singpromos.com
X-WR-CALDESC:Events for SINGPromos.com
BEGIN:VEVENT
DTSTART:20151003T000000
DTEND:20151004T235900
DTSTAMP:20260420T073143
CREATED:20151002T035402
LAST-MODIFIED:20151001T200033
UID:161863@https://singpromos.com
SUMMARY:Dynasty Travel Travel Fest Fair @ Suntec City Mall 3 - 4 Oct 2015
DESCRIPTION:Win Back Your Holiday, 1-For-1 Travel Packages, 2X Discounts (HSBC Credit Card Exclusive), Savings of up to $3000 per couple, Savings of up to 15% (Insight / Contiki / Trafalgar), Free Air Tickets and more. For more information, visit [ https://singpromos.com/happenings/dynasty-travel-travel-fest-fair-suntec-city-mall-3-4-oct-2015-161863/ ]. 
LOCATION:038983
URL:https://singpromos.com/happenings/dynasty-travel-travel-fest-fair-suntec-city-mall-3-4-oct-2015-161863/
END:VEVENT
END:VCALENDAR