BEGIN:VCALENDAR
PRODID:-//SINGPromos.com//NONSGML v1.0//EN
VERSION:2.0
CALSCALE:GREGORIAN
METHOD:PUBLISH
X-WR-CALNAME:SINGPromos.com
X-ORIGINAL-URL:https://singpromos.com
X-WR-CALDESC:Events for SINGPromos.com
BEGIN:VEVENT
DTSTART:20151002T000000
DTEND:20151231T235900
DTSTAMP:20260422T082107
CREATED:20151002T165357
LAST-MODIFIED:20151002T025503
UID:161995@https://singpromos.com
SUMMARY:MiniInTheBox US$5 OFF US$50 Spend Storewide Coupon Code 2 Oct - 31 Dec 2015
DESCRIPTION:Get US$5 OFF when you make a minimum purchase of US$50. FREE *worldwide* shipping.. For more information, visit [ https://singpromos.com/department-stores/miniinthebox-us5-off-us50-spend-storewide-coupon-code-2-oct-31-dec-2015-161995/ ]. 
LOCATION:
URL:https://singpromos.com/department-stores/miniinthebox-us5-off-us50-spend-storewide-coupon-code-2-oct-31-dec-2015-161995/
END:VEVENT
END:VCALENDAR