BEGIN:VCALENDAR
PRODID:-//SINGPromos.com//NONSGML v1.0//EN
VERSION:2.0
CALSCALE:GREGORIAN
METHOD:PUBLISH
X-WR-CALNAME:SINGPromos.com
X-ORIGINAL-URL:https://singpromos.com
X-WR-CALDESC:Events for SINGPromos.com
BEGIN:VEVENT
DTSTART:20151002T000000
DTEND:20151101T235900
DTSTAMP:20260422T082309
CREATED:20151002T202441
LAST-MODIFIED:20151002T202441
UID:162060@https://singpromos.com
SUMMARY:Philips Home Appliances Fair @ Tangs 2 Oct - 1 Nov 2015
DESCRIPTION:Check out some Philips appliances offers at Tangs. For more information, visit [ https://singpromos.com/home-appliances/philips-home-appliances-fair-tangs-2-oct-1-nov-2015-162060/ ]. 
LOCATION:238864
URL:https://singpromos.com/home-appliances/philips-home-appliances-fair-tangs-2-oct-1-nov-2015-162060/
END:VEVENT
END:VCALENDAR